BEGIN:VCALENDAR
VERSION:2.0
PRODID:-//wp-events-plugin.com//7.2.3.1//EN
BEGIN:VEVENT
UID:1@staging.whitefishbaygardenclub.com
DTSTART:20260501T100000Z
DTEND:20260501T110000Z
DTSTAMP:20260311T161606Z
URL:https://staging.whitefishbaygardenclub.com/?event=event-one
SUMMARY:Event One
DESCRIPTION:
END:VEVENT
BEGIN:VEVENT
UID:2@staging.whitefishbaygardenclub.com
DTSTART:20260610T150000Z
DTEND:20260610T160000Z
DTSTAMP:20260311T161629Z
URL:https://staging.whitefishbaygardenclub.com/?event=event-two
SUMMARY:Event Two
DESCRIPTION:
END:VEVENT
END:VCALENDAR